BEGIN:VCALENDAR
VERSION:2.0
PRODID:-//Tukios.com/
BEGIN:VEVENT
UID:4ff91448-d88c-4917-8143-3eb79011a409@www.smithfuneralhomeandchapel.com
DTSTAMP:20260421T150529Z
DTSTART:20260425
SUMMARY:Interment
DESCRIPTION:
URL:https://www.smithfuneralhomeandchapel.com/obituaries/robert-parker
LOCATION: 11116 US-61  Hannibal MO 63401
GEO:39.6679983;-91.4136949
END:VEVENT
END:VCALENDAR