BEGIN:VCALENDAR
VERSION:2.0
PRODID:-//Tukios.com/
BEGIN:VEVENT
UID:30b73bee-25e1-4a70-8c46-0f72db55bbad@www.smithfuneralhomeandchapel.com
DTSTAMP:20260421T150424Z
DTSTART:20260424T220000Z
DTEND:20260425T010000Z
SUMMARY:Visitation
DESCRIPTION:
URL:https://www.smithfuneralhomeandchapel.com/obituaries/robert-parker
LOCATION: 3600 McMasters Avenue  Hannibal MO 63401
GEO:39.7132294;-91.3911413
END:VEVENT
END:VCALENDAR