BEGIN:VCALENDAR
VERSION:2.0
PRODID:-//Tukios.com/
BEGIN:VEVENT
UID:1530b1e6-487d-43bd-a442-2de28c8f87de@www.smithfuneralhomeandchapel.com
DTSTAMP:20260421T145720Z
DTSTART:20260425T150000Z
DTEND:20260425T160000Z
SUMMARY:Funeral Service
DESCRIPTION:
URL:https://www.smithfuneralhomeandchapel.com/obituaries/robert-parker
LOCATION: 3600 McMasters Avenue  Hannibal MO 63401
GEO:39.7132294;-91.3911413
END:VEVENT
END:VCALENDAR